﻿BEGIN:VCALENDAR
VERSION:2.0
PRODID:-//Bürgerhaus Schuhfabrik - ECPv6.15.14//NONSGML v1.0//EN
CALSCALE:GREGORIAN
METHOD:PUBLISH
X-WR-CALNAME:Bürgerhaus Schuhfabrik
X-ORIGINAL-URL:https://www.xn--brgerhaus-schuhfabrik-8hc.de
X-WR-CALDESC:Veranstaltungen für Bürgerhaus Schuhfabrik
REFRESH-INTERVAL;VALUE=DURATION:PT1H
X-Robots-Tag:noindex
X-PUBLISHED-TTL:PT1H
BEGIN:VTIMEZONE
TZID:Europe/Berlin
BEGIN:DAYLIGHT
TZOFFSETFROM:+0100
TZOFFSETTO:+0200
TZNAME:CEST
DTSTART:20220327T010000
END:DAYLIGHT
BEGIN:STANDARD
TZOFFSETFROM:+0200
TZOFFSETTO:+0100
TZNAME:CET
DTSTART:20221030T010000
END:STANDARD
BEGIN:DAYLIGHT
TZOFFSETFROM:+0100
TZOFFSETTO:+0200
TZNAME:CEST
DTSTART:20230326T010000
END:DAYLIGHT
BEGIN:STANDARD
TZOFFSETFROM:+0200
TZOFFSETTO:+0100
TZNAME:CET
DTSTART:20231029T010000
END:STANDARD
BEGIN:DAYLIGHT
TZOFFSETFROM:+0100
TZOFFSETTO:+0200
TZNAME:CEST
DTSTART:20240331T010000
END:DAYLIGHT
BEGIN:STANDARD
TZOFFSETFROM:+0200
TZOFFSETTO:+0100
TZNAME:CET
DTSTART:20241027T010000
END:STANDARD
END:VTIMEZONE
BEGIN:VEVENT
DTSTART;TZID=Europe/Berlin:20230512T160000
DTEND;TZID=Europe/Berlin:20230512T183000
DTSTAMP:20260421T074258
CREATED:20221019T131527Z
LAST-MODIFIED:20221019T132354Z
UID:934-1683907200-1683916200@www.xn--brgerhaus-schuhfabrik-8hc.de
SUMMARY:Bibi Blocksberg „Alles wie verhext!“ - Das Musical
DESCRIPTION:Jeder kennt das\, es gibt Tage\, an denen einfach alles schiefläuft! Das fängt morgens schon beim Aufstehen mit dem falschen Fuß an und zieht sich über den ganzen Tag. Dann ist einfach „Alles wie verhext!“. Einen solchen Tag hat auch die kleine\, freche Hexe Bibi Blocksberg erwischt: Schon morgens gibt es ein Riesendurcheinander mit ihren Eltern Barbara und Bernhard Blocksberg zu Hause. Und auch in der Schule will einfach gar nichts klappen. Bibis Lehrerin Frau Müller-Riebensehl bringt das ganz schön auf die Palme! Abends ist dann auch noch Walpurgisnacht auf dem Blocksberg. Dieses Jahr sollen dort Bibi und Barbara Blocksberg zusammen mit Oma Grete das große Walpurgisnacht-Feuer entfachen. Aber was wird Walpurgia\, die Vorsitzende des Hexenrates bloß dazu sagen\, wenn dort auch alles schief läuft? \nEintritt: Kinder 12\,- € / Erwachsene 17\,- € \nwww.cocomico-theater.de \n>>>Tickets online kaufen<<<
URL:https://www.xn--brgerhaus-schuhfabrik-8hc.de/event/bibi-blocksberg-2023/
LOCATION:Bürgerhaus Schuhfabrik\, Friedhofstraße 3\, Waldfischbach-Burgalben\, Rheinland-Pfalz\, 67714\, Deutschland
CATEGORIES:buergerhaus
ATTACH;FMTTYPE=image/jpeg:https://www.xn--brgerhaus-schuhfabrik-8hc.de/_cms/wp-content/uploads/2022/10/bibi-blocksberg_web.jpg
ORGANIZER;CN="Ortsgemeinde Waldfischbach-Burgalben":MAILTO:buergerhaus-schuhfabrik@waldfischbach-burgalben.de
END:VEVENT
BEGIN:VEVENT
DTSTART;TZID=Europe/Berlin:20230514T190000
DTEND;TZID=Europe/Berlin:20230514T220000
DTSTAMP:20260421T074258
CREATED:20221019T130128Z
LAST-MODIFIED:20221019T131416Z
UID:925-1684090800-1684101600@www.xn--brgerhaus-schuhfabrik-8hc.de
SUMMARY:Chawwerusch Theater – „Supp oder Schlimmer geht´s immer“
DESCRIPTION:Es kocht in Verona\nIn „Supp“ schaut das Chawwerusch Theater hinter die Kulissen von Romeo und Julia\nSich gegenseitig mit Gurken und Paprika bewerfen – wo gibt’s denn so was? Im Verona der Renaissance\, wo sich die Köche der beiden Häuser Capulet und Montague mindestens genauso erbittert bekämpften wie ihre Herrschaften. Nachdem der oberste Koch wegen Zerstörung der Marktstände und Prügelei hinter Gittern gelandet ist\, übernehmen im Hause Capulet drei Köchinnen (Felix S. Felix\, Miriam Grimm\, Laura Kaiser) die Vorbereitungen für das große Hochzeitsmahl von Julia – klar\, dass sich auch bei ihnen alles um Gesellschaftsordnung\, Missverständnisse und die große Liebe dreht. In der neuen Produktion „Supp“ betrachtet das Chawwerusch Theater die berühmte Fehde und tragische Liebesgeschichte Shakespeares aus anderer Sicht\, nämlich von der Küche aus. Geschrieben von Ferruccio Cainero und Felix S. Felix wurde die Komödie von Walter Menzlaw 2021 neu inszeniert. \nDie drei sind Expertinnen\, keine Frage. Wie guter Frischkäse riecht\, wie das Gemüse zu schneiden ist und dass in einer Tomatensuppe in jedem Fall Knoblauch drin sein muss\, da sind sie sich völlig einig. Bei ihren Schilderungen kann das Publikum die italienischen Gewürze riechen und das Ratatouille schmecken. Beim großen Thema Liebe allerdings gehen die Meinungen auseinander. Julia hat sich gegen den Willen der Familie und für den geliebten Romeo entschieden? Die jüngste Köchin hat vollstes Verständnis und schildert den beiden älteren in einer flammenden Rede\, wie es ist\, wenn die Gefühle alles überwältigen: „Sie hat es nur der Liebe wegen getan. Sie spürt eine Wärme\, eine Süße\, die von ihr Besitz ergriffen hat\, eine Kraft\, über die sie keine Gewalt hat. Vor dieser Kraft kann man sich nicht schützen.“ \n Die ältere Köchin denkt voller Wehmut an ihre eigene Zeit der Verliebtheit zurück und dass ihr eine Beziehung mit Luggiano verboten wurde. Der Pater\, Fra Lorenzo\, hat ihr damals eine große Predigt über Jungfräulichkeit und Gott gehalten. Der gleiche Fra Lorenzo übrigens\, der jetzt die beiden Liebenden aus hohem Hause heimlich vermählt hat. Völlig abgeklärt dagegen verweist die dritte Köchin\, die Schwärmereien der beiden anderen in ihre Schranken\, große Gefühle sind Herrschaftsangelegenheiten: „Wir können uns nicht den Luxus leisten\, zu lieben.“ Im Küchendunst erwacht dann aber auch Widerspruchsgeist. Warum sollte das\, was bei den Herrschaften erhaben und wunderbar ist\, bei den Bediensteten nur schmutzig und gegen die kirchliche Ordnung sein? Zwischen geschnippelten Zwiebeln und schmutzigen Töpfen werden Ränke geschmiedet\, Verwirrungen gestiftet und erstaunliche Entdeckungen gemacht. \nDie Commedia dell’arte\, die klassische italienische Typenkomödie mit viel Musik\, Clownerie und Bewegung\, stand Pate für diese lebhaft-witzige Inszenierung mit einer Reihe von traditionellen italienischen Volksliedern. Die Musik bringt die Gefühle der drei Figuren auch dort zum Ausdruck\, wo es den Köchinnen manchmal an Worten fehlt: „Du hast Musik im Herzen\, hol sie raus.“ \nDas Bühnenbild (ebenfalls Walter Menzlaw) zitiert – wie in vielen Chawwerusch Produktionen – Zeitgenössisches\, ohne naturalistisch zu sein. Grobgezimmerte Regale und Tische\, Küchengeräte\, Gemüse und Obst versetzen in eine alte herrschaftliche Großküche und lassen der Fantasie immer noch viel Spielraum. Die Kostüme wurden von Kristina Baumert gestaltet. Alle Infos zu den Chawwerusch-Vorstellungen unter Coronabedingungen finden sich auf www.chawwerusch.de. \nhttps://www.chawwerusch.de/ \n>>>Tickets online kaufen<<<
URL:https://www.xn--brgerhaus-schuhfabrik-8hc.de/event/chawwerusch-2023/
LOCATION:Bürgerhaus Schuhfabrik\, Friedhofstraße 3\, Waldfischbach-Burgalben\, Rheinland-Pfalz\, 67714\, Deutschland
CATEGORIES:buergerhaus,Event
ATTACH;FMTTYPE=image/jpeg:https://www.xn--brgerhaus-schuhfabrik-8hc.de/_cms/wp-content/uploads/2022/10/chawwerusch-theater_web.jpg
ORGANIZER;CN="Ortsgemeinde Waldfischbach-Burgalben":MAILTO:buergerhaus-schuhfabrik@waldfischbach-burgalben.de
END:VEVENT
END:VCALENDAR