﻿BEGIN:VCALENDAR
VERSION:2.0
PRODID:-//Bürgerhaus Schuhfabrik - ECPv6.15.14//NONSGML v1.0//EN
CALSCALE:GREGORIAN
METHOD:PUBLISH
X-WR-CALNAME:Bürgerhaus Schuhfabrik
X-ORIGINAL-URL:https://www.xn--brgerhaus-schuhfabrik-8hc.de
X-WR-CALDESC:Veranstaltungen für Bürgerhaus Schuhfabrik
REFRESH-INTERVAL;VALUE=DURATION:PT1H
X-Robots-Tag:noindex
X-PUBLISHED-TTL:PT1H
BEGIN:VTIMEZONE
TZID:Europe/Berlin
BEGIN:DAYLIGHT
TZOFFSETFROM:+0100
TZOFFSETTO:+0200
TZNAME:CEST
DTSTART:20230326T010000
END:DAYLIGHT
BEGIN:STANDARD
TZOFFSETFROM:+0200
TZOFFSETTO:+0100
TZNAME:CET
DTSTART:20231029T010000
END:STANDARD
BEGIN:DAYLIGHT
TZOFFSETFROM:+0100
TZOFFSETTO:+0200
TZNAME:CEST
DTSTART:20240331T010000
END:DAYLIGHT
BEGIN:STANDARD
TZOFFSETFROM:+0200
TZOFFSETTO:+0100
TZNAME:CET
DTSTART:20241027T010000
END:STANDARD
BEGIN:DAYLIGHT
TZOFFSETFROM:+0100
TZOFFSETTO:+0200
TZNAME:CEST
DTSTART:20250330T010000
END:DAYLIGHT
BEGIN:STANDARD
TZOFFSETFROM:+0200
TZOFFSETTO:+0100
TZNAME:CET
DTSTART:20251026T010000
END:STANDARD
END:VTIMEZONE
BEGIN:VEVENT
DTSTART;TZID=Europe/Berlin:20241110T150000
DTEND;TZID=Europe/Berlin:20241110T170000
DTSTAMP:20260421T171836
CREATED:20240613T075844Z
LAST-MODIFIED:20240613T080542Z
UID:2155-1731250800-1731258000@www.xn--brgerhaus-schuhfabrik-8hc.de
SUMMARY:Morgen Findus wird´s was geben
DESCRIPTION:Morgen Findus wird´s was geben\nnach Sven Nordqvist \n \nMan soll nie zu viel versprechen… Sonst geht es einem am Ende wie dem alten Pettersson. Seitdem er Findus vom Weihnachtsmann erzählt hat\, hat der Kater nur noch einen Wunsch: dass der Weihnachtsmann auch zu ihm kommt!   Klar\, dass Pettersson ihn nicht enttäuschen möchte und so entschließt er sich\, in seinem Tischlerschuppen eine „Weihnachtsmann-Machmaschine“ zu bauen. Doch die Umsetzung seines Plans droht zu einem Abenteuer mit allerlei Tücken des Objekts\, unverhofftem Besuch und einem zu neugierigen Kater zu werden.   Doch am Ende wird alles gut! – Und nicht nur das: Am Heiligen Abend erscheint ein Gast\, mit dem nun wirklich niemand gerechnet hat…  Eine lustig – besinnliche Weihnachtsgeschichte für Groß und Klein\, mit Pettersson und Findus und so manchem weihnachtlichen Überraschungsgast. \nSonntag\, 10.11.2024 \nBeginn: 15.00 Uhr \nEintritt: Kinder 8 € / Erwachsene 10 €  \nTickets online bestellen
URL:https://www.xn--brgerhaus-schuhfabrik-8hc.de/event/findus/
LOCATION:Bürgerhaus Schuhfabrik\, Friedhofstraße 3\, Waldfischbach-Burgalben\, Rheinland-Pfalz\, 67714\, Deutschland
CATEGORIES:buergerhaus,Event
ATTACH;FMTTYPE=image/jpeg:https://www.xn--brgerhaus-schuhfabrik-8hc.de/_cms/wp-content/uploads/2024/06/findus-web1.jpg
ORGANIZER;CN="Ortsgemeinde Waldfischbach-Burgalben":MAILTO:buergerhaus-schuhfabrik@waldfischbach-burgalben.de
END:VEVENT
END:VCALENDAR